Package: alabaster.spatial Version: 1.0.0 Command: /home/biocbuild/bbs-3.17-bioc/R/bin/R CMD INSTALL alabaster.spatial StartedAt: 2023-10-15 15:42:19 -0400 (Sun, 15 Oct 2023) EndedAt: 2023-10-15 15:42:47 -0400 (Sun, 15 Oct 2023) EllapsedTime: 27.2 seconds RetCode: 0 Status: OK