Package: alabaster.string Version: 1.0.1 Command: /home/biocbuild/bbs-3.17-bioc/R/bin/R CMD check --install=check:alabaster.string.install-out.txt --library=/home/biocbuild/bbs-3.17-bioc/R/site-library --timings alabaster.string_1.0.1.tar.gz StartedAt: 2023-10-15 19:08:05 -0400 (Sun, 15 Oct 2023) EndedAt: 2023-10-15 19:09:26 -0400 (Sun, 15 Oct 2023) EllapsedTime: 80.9 seconds RetCode: 0 Status: OK CheckDir: alabaster.string.Rcheck Warnings: 0