Package: alabaster.string Version: 1.0.1 Command: /home/biocbuild/bbs-3.17-bioc/R/bin/R CMD INSTALL alabaster.string StartedAt: 2023-10-15 15:14:04 -0400 (Sun, 15 Oct 2023) EndedAt: 2023-10-15 15:14:15 -0400 (Sun, 15 Oct 2023) EllapsedTime: 10.7 seconds RetCode: 0 Status: OK