Package: alabaster Version: 1.0.0 Command: /Library/Frameworks/R.framework/Resources/bin/R CMD build --keep-empty-dirs --no-resave-data alabaster StartedAt: 2023-10-15 16:39:31 -0400 (Sun, 15 Oct 2023) EndedAt: 2023-10-15 16:41:29 -0400 (Sun, 15 Oct 2023) EllapsedTime: 119.0 seconds RetCode: 0 Status: OK PackageFile: alabaster_1.0.0.tar.gz PackageFileSize: 215.5 KiB