Package: alabaster Version: 1.0.0 Command: /Library/Frameworks/R.framework/Resources/bin/R CMD check --install=check:alabaster.install-out.txt --library=/Library/Frameworks/R.framework/Resources/library --no-vignettes --timings alabaster_1.0.0.tar.gz StartedAt: 2023-10-15 22:23:18 -0400 (Sun, 15 Oct 2023) EndedAt: 2023-10-15 22:32:48 -0400 (Sun, 15 Oct 2023) EllapsedTime: 570.6 seconds RetCode: 0 Status: OK CheckDir: alabaster.Rcheck Warnings: 0