Package: altcdfenvs Version: 2.62.0 Command: /home/biocbuild/bbs-3.17-bioc/R/bin/R CMD build --keep-empty-dirs --no-resave-data altcdfenvs StartedAt: 2023-10-15 15:54:36 -0400 (Sun, 15 Oct 2023) EndedAt: 2023-10-15 15:55:22 -0400 (Sun, 15 Oct 2023) EllapsedTime: 45.3 seconds RetCode: 0 Status: OK PackageFile: altcdfenvs_2.62.0.tar.gz PackageFileSize: 321 KiB