Package: annotatr Version: 1.26.0 Command: /Library/Frameworks/R.framework/Resources/bin/R CMD build --keep-empty-dirs --no-resave-data annotatr StartedAt: 2023-10-15 16:42:41 -0400 (Sun, 15 Oct 2023) EndedAt: 2023-10-15 16:47:23 -0400 (Sun, 15 Oct 2023) EllapsedTime: 282.1 seconds RetCode: 0 Status: OK PackageFile: annotatr_1.26.0.tar.gz PackageFileSize: 2.371 MiB