Package: annotatr Version: 1.26.0 Command: /Library/Frameworks/R.framework/Resources/bin/R CMD INSTALL annotatr StartedAt: 2023-10-15 16:32:09 -0400 (Sun, 15 Oct 2023) EndedAt: 2023-10-15 16:34:16 -0400 (Sun, 15 Oct 2023) EllapsedTime: 127.1 seconds RetCode: 0 Status: OK