Package: apComplex Version: 2.66.0 Command: rm -rf apComplex.buildbin-libdir && mkdir apComplex.buildbin-libdir && /Users/biocbuild/BBS/utils/build-universal.sh apComplex_2.66.0.tar.gz /Library/Frameworks/R.framework/Resources/bin/R apComplex.buildbin-libdir StartedAt: 2023-10-16 08:58:02 -0400 (Mon, 16 Oct 2023) EndedAt: 2023-10-16 08:58:53 -0400 (Mon, 16 Oct 2023) EllapsedTime: 51.1 seconds RetCode: 0 Status: OK PackageFile: apComplex_2.66.0.tgz PackageFileSize: 685 KiB