Package: apComplex Version: 2.66.0 Command: F:\biocbuild\bbs-3.17-bioc\R\bin\R.exe CMD INSTALL apComplex StartedAt: 2023-10-15 16:09:56 -0400 (Sun, 15 Oct 2023) EndedAt: 2023-10-15 16:10:14 -0400 (Sun, 15 Oct 2023) EllapsedTime: 17.9 seconds RetCode: 0 Status: OK