Package: awst Version: 1.8.0 Command: /home/biocbuild/bbs-3.17-bioc/R/bin/R CMD build --keep-empty-dirs --no-resave-data awst StartedAt: 2023-10-15 15:58:04 -0400 (Sun, 15 Oct 2023) EndedAt: 2023-10-15 15:58:48 -0400 (Sun, 15 Oct 2023) EllapsedTime: 43.7 seconds RetCode: 0 Status: OK PackageFile: awst_1.8.0.tar.gz PackageFileSize: 377.9 KiB