Package: awst Version: 1.8.0 Command: rm -rf awst.buildbin-libdir && mkdir awst.buildbin-libdir && F:\biocbuild\bbs-3.17-bioc\R\bin\R.exe CMD INSTALL --build --library=awst.buildbin-libdir awst_1.8.0.tar.gz StartedAt: 2023-10-16 08:26:09 -0400 (Mon, 16 Oct 2023) EndedAt: 2023-10-16 08:26:32 -0400 (Mon, 16 Oct 2023) EllapsedTime: 23.2 seconds RetCode: 0 Status: OK PackageFile: awst_1.8.0.zip PackageFileSize: 358.4 KiB