Package: awst Version: 1.8.0 Command: F:\biocbuild\bbs-3.17-bioc\R\bin\R.exe CMD check --no-multiarch --install=check:awst.install-out.txt --library=F:\biocbuild\bbs-3.17-bioc\R\library --no-vignettes --timings awst_1.8.0.tar.gz StartedAt: 2023-10-15 23:35:14 -0400 (Sun, 15 Oct 2023) EndedAt: 2023-10-15 23:37:27 -0400 (Sun, 15 Oct 2023) EllapsedTime: 133.0 seconds RetCode: 0 Status: OK CheckDir: awst.Rcheck Warnings: 0