Package: awst Version: 1.8.0 Command: F:\biocbuild\bbs-3.17-bioc\R\bin\R.exe CMD INSTALL awst StartedAt: 2023-10-15 15:56:11 -0400 (Sun, 15 Oct 2023) EndedAt: 2023-10-15 15:56:33 -0400 (Sun, 15 Oct 2023) EllapsedTime: 22.4 seconds RetCode: 0 Status: OK