Package: basilisk.utils Version: 1.12.1 Command: /home/biocbuild/bbs-3.17-bioc/R/bin/R CMD build --keep-empty-dirs --no-resave-data basilisk.utils StartedAt: 2023-10-15 16:00:08 -0400 (Sun, 15 Oct 2023) EndedAt: 2023-10-15 16:00:12 -0400 (Sun, 15 Oct 2023) EllapsedTime: 3.3 seconds RetCode: 0 Status: OK PackageFile: basilisk.utils_1.12.1.tar.gz PackageFileSize: 234.4 KiB