Package: basilisk.utils Version: 1.12.1 Command: /home/biocbuild/bbs-3.17-bioc/R/bin/R CMD INSTALL basilisk.utils StartedAt: 2023-10-15 15:10:06 -0400 (Sun, 15 Oct 2023) EndedAt: 2023-10-15 15:10:14 -0400 (Sun, 15 Oct 2023) EllapsedTime: 8.6 seconds RetCode: 0 Status: OK