Package: basilisk.utils Version: 1.12.1 Command: rm -rf basilisk.utils.buildbin-libdir && mkdir basilisk.utils.buildbin-libdir && F:\biocbuild\bbs-3.17-bioc\R\bin\R.exe CMD INSTALL --build --library=basilisk.utils.buildbin-libdir basilisk.utils_1.12.1.tar.gz StartedAt: 2023-10-16 08:27:05 -0400 (Mon, 16 Oct 2023) EndedAt: 2023-10-16 08:27:11 -0400 (Mon, 16 Oct 2023) EllapsedTime: 6.1 seconds RetCode: 0 Status: OK PackageFile: basilisk.utils_1.12.1.zip PackageFileSize: 286.4 KiB