Package: batchelor Version: 1.16.0 Command: /home/biocbuild/bbs-3.17-bioc/R/bin/R CMD INSTALL batchelor StartedAt: 2023-10-15 15:41:38 -0400 (Sun, 15 Oct 2023) EndedAt: 2023-10-15 15:42:24 -0400 (Sun, 15 Oct 2023) EllapsedTime: 45.6 seconds RetCode: 0 Status: OK