Package: batchelor Version: 1.16.0 Command: chmod a+r batchelor -R && F:\biocbuild\bbs-3.17-bioc\R\bin\R.exe CMD build --keep-empty-dirs --no-resave-data batchelor StartedAt: 2023-10-15 17:29:17 -0400 (Sun, 15 Oct 2023) EndedAt: 2023-10-15 17:34:59 -0400 (Sun, 15 Oct 2023) EllapsedTime: 342.0 seconds RetCode: 0 Status: OK PackageFile: batchelor_1.16.0.tar.gz PackageFileSize: 971.9 KiB