git_url: https://git.bioconductor.org/packages/baySeq git_branch: RELEASE_3_17 git_last_commit: f4619cd git_last_commit_date: 2023-04-25 09:49:38 -0400 (Tue, 25 Apr 2023) Package: baySeq Version: 2.34.0 Maintainer: Thomas J. Hardcastle MaintainerEmail: tjh48 at cam.ac.uk