Package: beadarray Version: 2.50.0 Command: rm -rf beadarray.buildbin-libdir && mkdir beadarray.buildbin-libdir && /Users/biocbuild/BBS/utils/build-universal.sh beadarray_2.50.0.tar.gz /Library/Frameworks/R.framework/Resources/bin/R beadarray.buildbin-libdir StartedAt: 2023-10-16 09:00:29 -0400 (Mon, 16 Oct 2023) EndedAt: 2023-10-16 09:02:12 -0400 (Mon, 16 Oct 2023) EllapsedTime: 103.0 seconds RetCode: 0 Status: OK PackageFile: beadarray_2.50.0.tgz PackageFileSize: 4.63 MiB