Package: beer Version: 1.4.0 Command: /home/biocbuild/bbs-3.17-bioc/R/bin/R CMD build --keep-empty-dirs --no-resave-data beer StartedAt: 2023-10-15 16:01:45 -0400 (Sun, 15 Oct 2023) EndedAt: 2023-10-15 16:03:35 -0400 (Sun, 15 Oct 2023) EllapsedTime: 109.8 seconds RetCode: 0 Status: OK PackageFile: beer_1.4.0.tar.gz PackageFileSize: 546.8 KiB