Package: bioassayR Version: 1.38.0 Command: /Library/Frameworks/R.framework/Resources/bin/R CMD build --keep-empty-dirs --no-resave-data bioassayR StartedAt: 2023-10-15 16:56:00 -0400 (Sun, 15 Oct 2023) EndedAt: 2023-10-15 16:59:40 -0400 (Sun, 15 Oct 2023) EllapsedTime: 219.2 seconds RetCode: 0 Status: OK PackageFile: bioassayR_1.38.0.tar.gz PackageFileSize: 4.639 MiB