Package: bioassayR Version: 1.38.0 Command: /Library/Frameworks/R.framework/Resources/bin/R CMD INSTALL bioassayR StartedAt: 2023-10-15 16:17:27 -0400 (Sun, 15 Oct 2023) EndedAt: 2023-10-15 16:18:06 -0400 (Sun, 15 Oct 2023) EllapsedTime: 39.5 seconds RetCode: 0 Status: OK