Package: biobtreeR Version: 1.12.0 Command: /Library/Frameworks/R.framework/Resources/bin/R CMD check --install=check:biobtreeR.install-out.txt --library=/Library/Frameworks/R.framework/Resources/library --no-vignettes --timings biobtreeR_1.12.0.tar.gz StartedAt: 2023-10-15 22:58:38 -0400 (Sun, 15 Oct 2023) EndedAt: 2023-10-15 22:59:46 -0400 (Sun, 15 Oct 2023) EllapsedTime: 68.1 seconds RetCode: 0 Status: OK CheckDir: biobtreeR.Rcheck Warnings: 0