Package: biobtreeR Version: 1.12.0 Command: F:\biocbuild\bbs-3.17-bioc\R\bin\R.exe CMD INSTALL biobtreeR StartedAt: 2023-10-15 15:59:32 -0400 (Sun, 15 Oct 2023) EndedAt: 2023-10-15 15:59:37 -0400 (Sun, 15 Oct 2023) EllapsedTime: 5.8 seconds RetCode: 0 Status: OK