Package: biodbChebi Version: 1.6.0 Command: /home/biocbuild/bbs-3.17-bioc/R/bin/R CMD check --install=check:biodbChebi.install-out.txt --library=/home/biocbuild/bbs-3.17-bioc/R/site-library --timings biodbChebi_1.6.0.tar.gz StartedAt: 2023-10-15 19:35:17 -0400 (Sun, 15 Oct 2023) EndedAt: 2023-10-15 19:37:10 -0400 (Sun, 15 Oct 2023) EllapsedTime: 112.3 seconds RetCode: 0 Status: OK CheckDir: biodbChebi.Rcheck Warnings: 0