Package: biodbKegg Version: 1.6.1 Command: rm -rf biodbKegg.buildbin-libdir && mkdir biodbKegg.buildbin-libdir && /Users/biocbuild/BBS/utils/build-universal.sh biodbKegg_1.6.1.tar.gz /Library/Frameworks/R.framework/Resources/bin/R biodbKegg.buildbin-libdir StartedAt: 2023-10-16 09:02:31 -0400 (Mon, 16 Oct 2023) EndedAt: 2023-10-16 09:03:30 -0400 (Mon, 16 Oct 2023) EllapsedTime: 59.9 seconds RetCode: 0 Status: OK PackageFile: biodbKegg_1.6.1.tgz PackageFileSize: 1.187 MiB