Package: biodbKegg Version: 1.6.1 Command: rm -rf biodbKegg.buildbin-libdir && mkdir biodbKegg.buildbin-libdir && F:\biocbuild\bbs-3.17-bioc\R\bin\R.exe CMD INSTALL --build --library=biodbKegg.buildbin-libdir biodbKegg_1.6.1.tar.gz StartedAt: 2023-10-14 08:49:42 -0400 (Sat, 14 Oct 2023) EndedAt: 2023-10-14 08:50:04 -0400 (Sat, 14 Oct 2023) EllapsedTime: 22.0 seconds RetCode: 0 Status: OK PackageFile: biodbKegg_1.6.1.zip PackageFileSize: 1.152 MiB