Package: biodbKegg Version: 1.6.1 Command: chmod a+r biodbKegg -R && F:\biocbuild\bbs-3.17-bioc\R\bin\R.exe CMD build --keep-empty-dirs --no-resave-data biodbKegg StartedAt: 2023-10-15 17:42:58 -0400 (Sun, 15 Oct 2023) EndedAt: 2023-10-15 17:44:36 -0400 (Sun, 15 Oct 2023) EllapsedTime: 97.9 seconds RetCode: 1 Status: ERROR PackageFile: None PackageFileSize: NA