Package: biodbLipidmaps Version: 1.6.0 Command: /Library/Frameworks/R.framework/Resources/bin/R CMD check --install=check:biodbLipidmaps.install-out.txt --library=/Library/Frameworks/R.framework/Resources/library --no-vignettes --timings biodbLipidmaps_1.6.0.tar.gz StartedAt: 2023-10-15 23:07:23 -0400 (Sun, 15 Oct 2023) EndedAt: 2023-10-15 23:10:47 -0400 (Sun, 15 Oct 2023) EllapsedTime: 204.6 seconds RetCode: 0 Status: OK CheckDir: biodbLipidmaps.Rcheck Warnings: 0