Package: biodbLipidmaps Version: 1.6.0 Command: /home/biocbuild/bbs-3.17-bioc/R/bin/R CMD build --keep-empty-dirs --no-resave-data biodbLipidmaps StartedAt: 2023-10-15 16:05:55 -0400 (Sun, 15 Oct 2023) EndedAt: 2023-10-15 16:06:19 -0400 (Sun, 15 Oct 2023) EllapsedTime: 23.2 seconds RetCode: 0 Status: OK PackageFile: biodbLipidmaps_1.6.0.tar.gz PackageFileSize: 304.7 KiB