Package: biodbNci Version: 1.4.0 Command: /home/biocbuild/bbs-3.17-bioc/R/bin/R CMD INSTALL biodbNci StartedAt: 2023-10-15 15:34:01 -0400 (Sun, 15 Oct 2023) EndedAt: 2023-10-15 15:34:35 -0400 (Sun, 15 Oct 2023) EllapsedTime: 33.3 seconds RetCode: 0 Status: OK