Package: biodbNci Version: 1.4.0 Command: rm -rf biodbNci.buildbin-libdir && mkdir biodbNci.buildbin-libdir && F:\biocbuild\bbs-3.17-bioc\R\bin\R.exe CMD INSTALL --build --library=biodbNci.buildbin-libdir biodbNci_1.4.0.tar.gz StartedAt: 2023-10-16 08:29:28 -0400 (Mon, 16 Oct 2023) EndedAt: 2023-10-16 08:30:14 -0400 (Mon, 16 Oct 2023) EllapsedTime: 46.1 seconds RetCode: 0 Status: OK PackageFile: biodbNci_1.4.0.zip PackageFileSize: 893.7 KiB