Package: biodbNci Version: 1.4.0 Command: chmod a+r biodbNci -R && F:\biocbuild\bbs-3.17-bioc\R\bin\R.exe CMD build --keep-empty-dirs --no-resave-data biodbNci StartedAt: 2023-10-15 17:44:02 -0400 (Sun, 15 Oct 2023) EndedAt: 2023-10-15 17:44:48 -0400 (Sun, 15 Oct 2023) EllapsedTime: 46.7 seconds RetCode: 0 Status: OK PackageFile: biodbNci_1.4.0.tar.gz PackageFileSize: 312 KiB