Package: biomvRCNS Version: 1.40.0 Command: /home/biocbuild/bbs-3.17-bioc/R/bin/R CMD INSTALL biomvRCNS StartedAt: 2023-10-15 15:30:05 -0400 (Sun, 15 Oct 2023) EndedAt: 2023-10-15 15:30:06 -0400 (Sun, 15 Oct 2023) EllapsedTime: 1.2 seconds RetCode: 1 Status: ERROR