Package: biomvRCNS Version: 1.40.0 Command: chmod a+r biomvRCNS -R && F:\biocbuild\bbs-3.17-bioc\R\bin\R.exe CMD build --keep-empty-dirs --no-resave-data biomvRCNS StartedAt: 2023-10-15 17:44:49 -0400 (Sun, 15 Oct 2023) EndedAt: 2023-10-15 17:44:55 -0400 (Sun, 15 Oct 2023) EllapsedTime: 5.0 seconds RetCode: 1 Status: ERROR PackageFile: None PackageFileSize: NA