Package: biotmle Version: 1.24.0 Command: rm -rf biotmle.buildbin-libdir && mkdir biotmle.buildbin-libdir && /Users/biocbuild/BBS/utils/build-universal.sh biotmle_1.24.0.tar.gz /Library/Frameworks/R.framework/Resources/bin/R biotmle.buildbin-libdir StartedAt: 2023-10-16 09:02:59 -0400 (Mon, 16 Oct 2023) EndedAt: 2023-10-16 09:04:19 -0400 (Mon, 16 Oct 2023) EllapsedTime: 80.2 seconds RetCode: 0 Status: OK PackageFile: biotmle_1.24.0.tgz PackageFileSize: 364.4 KiB