Package: biotmle Version: 1.24.0 Command: rm -rf biotmle.buildbin-libdir && mkdir biotmle.buildbin-libdir && F:\biocbuild\bbs-3.17-bioc\R\bin\R.exe CMD INSTALL --build --library=biotmle.buildbin-libdir biotmle_1.24.0.tar.gz StartedAt: 2023-10-16 08:29:49 -0400 (Mon, 16 Oct 2023) EndedAt: 2023-10-16 08:30:16 -0400 (Mon, 16 Oct 2023) EllapsedTime: 26.9 seconds RetCode: 0 Status: OK PackageFile: biotmle_1.24.0.zip PackageFileSize: 324.5 KiB