Package: blacksheepr Version: 1.14.0 Command: rm -rf blacksheepr.buildbin-libdir && mkdir blacksheepr.buildbin-libdir && /Users/biocbuild/BBS/utils/build-universal.sh blacksheepr_1.14.0.tar.gz /Library/Frameworks/R.framework/Resources/bin/R blacksheepr.buildbin-libdir StartedAt: 2023-10-16 09:03:07 -0400 (Mon, 16 Oct 2023) EndedAt: 2023-10-16 09:05:02 -0400 (Mon, 16 Oct 2023) EllapsedTime: 114.8 seconds RetCode: 0 Status: OK PackageFile: blacksheepr_1.14.0.tgz PackageFileSize: 4.274 MiB