Package: blacksheepr Version: 1.14.0 Command: /Library/Frameworks/R.framework/Resources/bin/R CMD build --keep-empty-dirs --no-resave-data blacksheepr StartedAt: 2023-10-15 17:04:39 -0400 (Sun, 15 Oct 2023) EndedAt: 2023-10-15 17:11:39 -0400 (Sun, 15 Oct 2023) EllapsedTime: 420.4 seconds RetCode: 0 Status: OK PackageFile: blacksheepr_1.14.0.tar.gz PackageFileSize: 4.218 MiB