Package: blima Version: 1.34.0 Command: rm -rf blima.buildbin-libdir && mkdir blima.buildbin-libdir && /Users/biocbuild/BBS/utils/build-universal.sh blima_1.34.0.tar.gz /Library/Frameworks/R.framework/Resources/bin/R blima.buildbin-libdir StartedAt: 2023-10-16 09:03:14 -0400 (Mon, 16 Oct 2023) EndedAt: 2023-10-16 09:04:47 -0400 (Mon, 16 Oct 2023) EllapsedTime: 92.8 seconds RetCode: 0 Status: OK PackageFile: blima_1.34.0.tgz PackageFileSize: 419.4 KiB