Package: blima Version: 1.34.0 Command: /Library/Frameworks/R.framework/Resources/bin/R CMD check --install=check:blima.install-out.txt --library=/Library/Frameworks/R.framework/Resources/library --no-vignettes --timings blima_1.34.0.tar.gz StartedAt: 2023-10-15 23:12:20 -0400 (Sun, 15 Oct 2023) EndedAt: 2023-10-15 23:17:18 -0400 (Sun, 15 Oct 2023) EllapsedTime: 298.3 seconds RetCode: 0 Status: WARNINGS CheckDir: blima.Rcheck Warnings: 1