Package: blima Version: 1.34.0 Command: F:\biocbuild\bbs-3.17-bioc\R\bin\R.exe CMD check --no-multiarch --install=check:blima.install-out.txt --library=F:\biocbuild\bbs-3.17-bioc\R\library --no-vignettes --timings blima_1.34.0.tar.gz StartedAt: 2023-10-16 00:03:29 -0400 (Mon, 16 Oct 2023) EndedAt: 2023-10-16 00:05:53 -0400 (Mon, 16 Oct 2023) EllapsedTime: 143.3 seconds RetCode: 0 Status: WARNINGS CheckDir: blima.Rcheck Warnings: 1