Package: bnem Version: 1.8.0 Command: /home/biocbuild/bbs-3.17-bioc/R/bin/R CMD build --keep-empty-dirs --no-resave-data bnem StartedAt: 2023-10-15 16:08:26 -0400 (Sun, 15 Oct 2023) EndedAt: 2023-10-15 16:09:29 -0400 (Sun, 15 Oct 2023) EllapsedTime: 63.5 seconds RetCode: 0 Status: OK PackageFile: bnem_1.8.0.tar.gz PackageFileSize: 1.539 MiB