Package: bnem Version: 1.8.0 Command: chmod a+r bnem -R && F:\biocbuild\bbs-3.17-bioc\R\bin\R.exe CMD build --keep-empty-dirs --no-resave-data bnem StartedAt: 2023-10-15 17:48:55 -0400 (Sun, 15 Oct 2023) EndedAt: 2023-10-15 17:50:10 -0400 (Sun, 15 Oct 2023) EllapsedTime: 75.2 seconds RetCode: 0 Status: OK PackageFile: bnem_1.8.0.tar.gz PackageFileSize: 1.024 MiB