Package: calm Version: 1.14.0 Command: /Library/Frameworks/R.framework/Resources/bin/R CMD build --keep-empty-dirs --no-resave-data calm StartedAt: 2023-10-15 17:11:18 -0400 (Sun, 15 Oct 2023) EndedAt: 2023-10-15 17:15:30 -0400 (Sun, 15 Oct 2023) EllapsedTime: 252.2 seconds RetCode: 0 Status: OK PackageFile: calm_1.14.0.tar.gz PackageFileSize: 389.7 KiB