Package: calm Version: 1.14.0 Command: rm -rf calm.buildbin-libdir && mkdir calm.buildbin-libdir && F:\biocbuild\bbs-3.17-bioc\R\bin\R.exe CMD INSTALL --build --library=calm.buildbin-libdir calm_1.14.0.tar.gz StartedAt: 2023-10-16 08:31:39 -0400 (Mon, 16 Oct 2023) EndedAt: 2023-10-16 08:31:48 -0400 (Mon, 16 Oct 2023) EllapsedTime: 9.2 seconds RetCode: 0 Status: OK PackageFile: calm_1.14.0.zip PackageFileSize: 421.2 KiB