Package: ccrepe Version: 1.36.0 Command: rm -rf ccrepe.buildbin-libdir && mkdir ccrepe.buildbin-libdir && /Users/biocbuild/BBS/utils/build-universal.sh ccrepe_1.36.0.tar.gz /Library/Frameworks/R.framework/Resources/bin/R ccrepe.buildbin-libdir StartedAt: 2023-10-16 09:05:48 -0400 (Mon, 16 Oct 2023) EndedAt: 2023-10-16 09:05:56 -0400 (Mon, 16 Oct 2023) EllapsedTime: 8.4 seconds RetCode: 0 Status: OK PackageFile: ccrepe_1.36.0.tgz PackageFileSize: 360.1 KiB