Package: ccrepe Version: 1.36.0 Command: /home/biocbuild/bbs-3.17-bioc/R/bin/R CMD build --keep-empty-dirs --no-resave-data ccrepe StartedAt: 2023-10-15 16:13:06 -0400 (Sun, 15 Oct 2023) EndedAt: 2023-10-15 16:13:17 -0400 (Sun, 15 Oct 2023) EllapsedTime: 11.0 seconds RetCode: 0 Status: OK PackageFile: ccrepe_1.36.0.tar.gz PackageFileSize: 304 KiB